BEGIN:VCALENDAR
VERSION:2.0
PRODID:-//ChamberMaster//Event Calendar 2.0//EN
METHOD:PUBLISH
X-PUBLISHED-TTL:P3D
REFRESH-INTERVAL:P3D
CALSCALE:GREGORIAN
BEGIN:VEVENT
DTSTART:20280711T233000Z
DTEND:20280712T000000Z
X-MICROSOFT-CDO-ALLDAYEVENT:FALSE
SUMMARY:Tuesday Trivia
DESCRIPTION:Join us at The Boat House for trivia night every Tuesday! The theme is different every week to keep you learning something new.
X-ALT-DESC;FMTTYPE=text/html:Join us at The Boat House for trivia night every Tuesday! The theme is different every week to keep you learning something new.&nbsp\;
LOCATION:
UID:e.1120.58584
SEQUENCE:3
DTSTAMP:20260421T214533Z
URL:https://business.visityanktonsd.com/events/details/tuesday-trivia-07-11-2028-58584
END:VEVENT

END:VCALENDAR
