BEGIN:VCALENDAR
VERSION:2.0
PRODID:-//ChamberMaster//Event Calendar 2.0//EN
METHOD:PUBLISH
X-PUBLISHED-TTL:P3D
REFRESH-INTERVAL:P3D
CALSCALE:GREGORIAN
BEGIN:VEVENT
DTSTART:20231111T010000Z
DTEND:20231111T050000Z
X-MICROSOFT-CDO-ALLDAYEVENT:FALSE
SUMMARY:Ohiya Casino & Resort Basket of Bucks Hot Seats
DESCRIPTION:How does an extra $150 CASH sound?? This month\, play our Basket of Bucks Hot Seats every Friday for your chance to WIN some CASH! From 7pm-11pm\, one lucky guest will be selected to WIN BIG every hour! Do YOU feel lucky?
X-ALT-DESC;FMTTYPE=text/html:<p><span style="background-color:transparent\; color:rgb(0\, 0\, 0)\; font-family:century gothic\,sans-serif\; font-size:11pt">How does an extra $150 CASH sound?? This month\, play our Basket of Bucks Hot Seats every Friday for your chance to WIN some CASH! From 7pm-11pm\, one lucky guest will be selected to WIN BIG every hour! Do YOU feel lucky?&nbsp\;</span></p>\n
LOCATION:Ohiya Casino & Resort 53142 Hwy 12 Niobrara\, NE 68760
UID:e.1120.50111
SEQUENCE:3
DTSTAMP:20260422T163135Z
URL:https://business.visityanktonsd.com/events/details/ohiya-casino-resort-basket-of-bucks-hot-seats-11-10-2023-50111
END:VEVENT

END:VCALENDAR
