BEGIN:VCALENDAR
VERSION:2.0
PRODID:-//ChamberMaster//Event Calendar 2.0//EN
METHOD:PUBLISH
X-PUBLISHED-TTL:P3D
REFRESH-INTERVAL:P3D
CALSCALE:GREGORIAN
BEGIN:VEVENT
DTSTART:20250511T200000Z
DTEND:20250512T000000Z
X-MICROSOFT-CDO-ALLDAYEVENT:FALSE
SUMMARY:Mother's Day Silent Auction & 50/50 Raffle
DESCRIPTION:Silent Auction & 50/50 Fundraiser!\n\nRat Rod Food Smokers Food Truck!\n\nLIVE MUSIC BY TODD CASILLI!\n\nCome join us 3PM-7PM!\n\nGonna be a great Mother's Day @ The Wood!
X-ALT-DESC;FMTTYPE=text/html:<div class="xdj266r x11i5rnm xat24cr x1mh8g0r x1vvkbs" style="margin: 0px\; overflow-wrap: break-word\; font-family: system-ui\, -apple-system\, system-ui\, &quot\;.SFNSText-Regular&quot\;\, sans-serif\; color: rgb(8\, 8\, 9)\; font-size: 15px\; font-variant-ligatures: normal\; orphans: 2\; widows: 2\; text-decoration-thickness: initial\; text-decoration-style: initial\; text-decoration-color: initial\;"><span style="font-size:14px\;"><span style="font-family:arial\;">Silent Auction &amp\; 50/50 Fundraiser!<br class="html-br" />\nRat Rod Food Smokers Food Truck!</span></span></div>\n\n<div class="x11i5rnm xat24cr x1mh8g0r x1vvkbs xtlvy1s" style="margin: 0.5em 0px 0px\; overflow-wrap: break-word\; font-family: system-ui\, -apple-system\, system-ui\, &quot\;.SFNSText-Regular&quot\;\, sans-serif\; color: rgb(8\, 8\, 9)\; font-size: 15px\; font-variant-ligatures: normal\; orphans: 2\; widows: 2\; text-decoration-thickness: initial\; text-decoration-style: initial\; text-decoration-color: initial\;"><span style="font-size:14px\;"><span style="font-family:arial\;">LIVE MUSIC BY TODD CASILLI!</span></span></div>\n\n<div class="x11i5rnm xat24cr x1mh8g0r x1vvkbs xtlvy1s" style="margin: 0.5em 0px 0px\; overflow-wrap: break-word\; font-family: system-ui\, -apple-system\, system-ui\, &quot\;.SFNSText-Regular&quot\;\, sans-serif\; color: rgb(8\, 8\, 9)\; font-size: 15px\; font-variant-ligatures: normal\; orphans: 2\; widows: 2\; text-decoration-thickness: initial\; text-decoration-style: initial\; text-decoration-color: initial\;"><span style="font-size:14px\;"><span style="font-family:arial\;">Come join us 3PM-7PM!</span></span></div>\n\n<div class="x11i5rnm xat24cr x1mh8g0r x1vvkbs xtlvy1s" style="margin: 0.5em 0px 0px\; overflow-wrap: break-word\; font-family: system-ui\, -apple-system\, system-ui\, &quot\;.SFNSText-Regular&quot\;\, sans-serif\; color: rgb(8\, 8\, 9)\; font-size: 15px\; font-variant-ligatures: normal\; orphans: 2\; widows: 2\; text-decoration-thickness: initial\; text-decoration-style: initial\; text-decoration-color: initial\;"><span style="font-size:14px\;"><span style="font-family:arial\;">Gonna be a great Mother&rsquo\;s Day @ The Wood!</span></span></div>\n
LOCATION:Cottonwood & Shipwreck Bar
UID:e.1120.56120
SEQUENCE:3
DTSTAMP:20260421T013359Z
URL:https://business.visityanktonsd.com/events/details/mother-s-day-silent-auction-50-50-raffle-56120
END:VEVENT

END:VCALENDAR
