BEGIN:VCALENDAR
VERSION:2.0
PRODID:-//ChamberMaster//Event Calendar 2.0//EN
METHOD:PUBLISH
X-PUBLISHED-TTL:P3D
REFRESH-INTERVAL:P3D
CALSCALE:GREGORIAN
BEGIN:VEVENT
DTSTART:20260424T000000Z
DTEND:20260424T030000Z
X-MICROSOFT-CDO-ALLDAYEVENT:FALSE
SUMMARY:Live Music: Yuya Mix
DESCRIPTION:Yuya/Will Mix is back in Yankton!\n\nSinger/Songwriter Yuya Mix is a one-man band out of Duluth\, MN providing a modern folk vibe featuring his ukulele/guitar combo with a suitcase drum and tambourine.
X-ALT-DESC;FMTTYPE=text/html:<div class="xdj266r x14z9mp xat24cr x1lziwak x1vvkbs" style="margin-inline: 0px\; overflow-wrap: break-word\; margin-bottom: 0px\; margin-top: 0px\; font-family: system-ui\, -apple-system\, &quot\;system-ui&quot\;\, &quot\;.SFNSText-Regular&quot\;\, sans-serif\; color: rgb(8\, 8\, 9)\; font-size: 15px\;">Yuya/Will Mix is back in Yankton!</div>\n\n<div class="x14z9mp xat24cr x1lziwak x1vvkbs xtlvy1s" style="margin-inline: 0px\; overflow-wrap: break-word\; margin-bottom: 0px\; margin-top: 0.5em\; font-family: system-ui\, -apple-system\, &quot\;system-ui&quot\;\, &quot\;.SFNSText-Regular&quot\;\, sans-serif\; color: rgb(8\, 8\, 9)\; font-size: 15px\;">Singer/Songwriter Yuya Mix is a one-man band out of Duluth\, MN providing a modern folk vibe featuring his ukulele/guitar combo with a suitcase drum and tambourine.</div>\n
LOCATION:The Copper Room
UID:e.1120.59702
SEQUENCE:3
DTSTAMP:20260423T094014Z
URL:https://business.visityanktonsd.com/events/details/live-music-yuya-mix-59702
END:VEVENT

END:VCALENDAR
