BEGIN:VCALENDAR
VERSION:2.0
PRODID:-//ChamberMaster//Event Calendar 2.0//EN
METHOD:PUBLISH
X-PUBLISHED-TTL:P3D
REFRESH-INTERVAL:P3D
CALSCALE:GREGORIAN
BEGIN:VEVENT
DTSTART:20260424T223000Z
DTEND:20260425T003000Z
X-MICROSOFT-CDO-ALLDAYEVENT:FALSE
SUMMARY:Live Music: Gary Mehlbrech
DESCRIPTION:Gary Melbrech from 5:30-7:30pm
X-ALT-DESC;FMTTYPE=text/html:<div dir="auto" style="font-family: system-ui\, -apple-system\, &quot\;system-ui&quot\;\, &quot\;.SFNSText-Regular&quot\;\, sans-serif\; color: rgb(8\, 8\, 9)\; font-size: 15px\; white-space: pre-wrap\;">Gary Melbrech from 5:30-7:30pm</div>\n
LOCATION:The Copper Room
UID:e.1120.59710
SEQUENCE:3
DTSTAMP:20260423T093801Z
URL:https://business.visityanktonsd.com/events/details/live-music-gary-mehlbrech-59710
END:VEVENT

END:VCALENDAR
