BEGIN:VCALENDAR
VERSION:2.0
PRODID:-//ChamberMaster//Event Calendar 2.0//EN
METHOD:PUBLISH
X-PUBLISHED-TTL:P3D
REFRESH-INTERVAL:P3D
CALSCALE:GREGORIAN
BEGIN:VEVENT
DTSTART:20241005T140000Z
DTEND:20241005T220000Z
X-MICROSOFT-CDO-ALLDAYEVENT:FALSE
SUMMARY:Block Party Quilt Show
DESCRIPTION:Join the Dakota Prairie Quilt Guild as they showcase over 100 quilts. Enjoy visiting our vendors\, attending a free workshop\, having a light lunch\, and possibly winning a door prize or raffle.
X-ALT-DESC;FMTTYPE=text/html:Join the Dakota Prairie Quilt Guild as they showcase over 100 quilts. Enjoy visiting our vendors\, attending a free workshop\, having a light lunch\, and possibly winning a door prize or raffle.
LOCATION:NFAA Easton Yankton Archery Center East Highway 50 Yankton\, SD
UID:e.1120.54301
SEQUENCE:3
DTSTAMP:20260421T174525Z
URL:https://business.visityanktonsd.com/events/details/block-party-quilt-show-54301
END:VEVENT

END:VCALENDAR
